BEGIN:VCALENDAR
VERSION:2.0
PRODID:-//Tawar Mall - ECPv6.15.20//NONSGML v1.0//EN
CALSCALE:GREGORIAN
METHOD:PUBLISH
X-ORIGINAL-URL:https://www.tawarmall.qa
X-WR-CALDESC:Events for Tawar Mall
REFRESH-INTERVAL;VALUE=DURATION:PT1H
X-Robots-Tag:noindex
X-PUBLISHED-TTL:PT1H
BEGIN:VTIMEZONE
TZID:UTC
BEGIN:STANDARD
TZOFFSETFROM:+0000
TZOFFSETTO:+0000
TZNAME:UTC
DTSTART:20230101T000000
END:STANDARD
END:VTIMEZONE
BEGIN:VEVENT
DTSTART;TZID=UTC:20250711T183000
DTEND;TZID=UTC:20250810T203000
DTSTAMP:20260424T030945
CREATED:20250708T093057Z
LAST-MODIFIED:20250715T132024Z
UID:9123-1752258600-1754857800@www.tawarmall.qa
SUMMARY:Fun-Tastic Fridays
DESCRIPTION:Exciting Friday Ahead! Join us for a day of magic\, laughter\, games & mascots. don’t miss the fun! 🎪🎉 \nانضم إلينا للاستمتاع بأمسية مليئة بالمرح في طوار مول مع أنشطة ومغامرات مثيرة لجميع أفراد العائلة \n📍 Tawar Mall\n📅 Friday 11 / 7 / 2025\n⌚ From 6.30 PM\n—————————- \n#طوارمول #مكان_للجميع #كلنا_قطر #إنه_طوار_مول #قطر #طوار_مول #الترفيه #جمعةرائعة\n#FantasticFriday #ItsTawarMall #APlaceForAll #WeAreQatar #TawarMall
URL:https://www.tawarmall.qa/event/fun-tastic-fridays/
LOCATION:Tawar Mall\, Doha\, Qatar
ATTACH;FMTTYPE=image/png:https://www.tawarmall.qa/wp-content/uploads/2025/07/Weekend-Event-Static-Post.png
END:VEVENT
BEGIN:VEVENT
DTSTART;TZID=UTC:20250606T170000
DTEND;TZID=UTC:20250608T213000
DTSTAMP:20260424T030945
CREATED:20250601T085622Z
LAST-MODIFIED:20250601T085622Z
UID:8943-1749229200-1749418200@www.tawarmall.qa
SUMMARY:Eid Al Adha Celebrations
DESCRIPTION:Get ready for an Eid Al Ahda adventure with captivating tales that celebrates the joy and wonder of this festive season! \nJoin us at Tawar Mall on Jun 06 – 07 – 08\, 2025 to experience exiting performances and dazzling shows throughout the mall.. \nActivations Schedule: 5:00PM – 9:30PM \nShowtime at Second Floor from 6:30 PM to 9.30 PM \nاحتفالات عيد الأضحى في طوار مول \nموسم الأعياد يستمر طيلة 3 ايام في طوار مول كونوا في الموعد لنحتفل بفرحة عيد الاضحى معانا.. \nجدول العروض في الطابق الثاني:\n6:30 مساءً – 9:30 مساءً \nجدول الأنشطة:\n5:00 مساءً – 9:30 مساءً \n#عيد_الأضح_المبارك#العيد_في_طوار_مول #احتفالات_العيد #عيد_طوار_مول #EidCelebrations #Entertainment #happiness #AplaceForAll #itstawarmall
URL:https://www.tawarmall.qa/event/eid-al-adha-celebrations/
LOCATION:Tawar Mall\, Doha\, Qatar
ATTACH;FMTTYPE=image/png:https://www.tawarmall.qa/wp-content/uploads/2025/06/Eid-Al-Adha-Tawar-Mall.png
END:VEVENT
BEGIN:VEVENT
DTSTART;TZID=UTC:20250502T184500
DTEND;TZID=UTC:20250502T210000
DTSTAMP:20260424T030945
CREATED:20250428T075826Z
LAST-MODIFIED:20250428T075826Z
UID:8910-1746211500-1746219600@www.tawarmall.qa
SUMMARY:Weekend Adventure
DESCRIPTION:مغامرات عطلة نهاية الأسبوع بانتظارك! \nانضم إلينا للاستمتاع بأمسية مليئة بالمرح في طوار مول مع أنشطة ومغامرات مثيرة لجميع أفراد العائلة 🎭✨ \nWeekend Adventure awaits.. \nJoin us at Tawar Mall this Friday for exiting activities and surprises for the whole family… Magic\, Mickey’s Bakery Show\, Games & Mascots and more\, 🎭✨Don’t miss the excitement! \n📍 Tawar Mall\n📅 Friday 02 / 05 / 2025\n⌚ From 6.45 PM 🎉\n—————————- \n#طوارمول #مكان_للجميع #كلنا_قطر #إنه_طوار_مول #قطر #طوار_مول #الترفيه #جمعةرائعة\n#Friday #Adventure #itstawarmall #APlaceForAll #WeAreQatar #TawarMall
URL:https://www.tawarmall.qa/event/weekend-adventure/
LOCATION:Tawar Mall\, Doha\, Qatar
ATTACH;FMTTYPE=image/png:https://www.tawarmall.qa/wp-content/uploads/2025/04/Magic-Show-Chemist-Show-Mickey-Mouse-Bakery-Slinky-Comedy-Fun-Kids-Entertainment-Friday-Family-Cartoon-Kids-Happiness-Tom-and-Jerry-Stage-Show-Love-1.png
END:VEVENT
BEGIN:VEVENT
DTSTART;TZID=UTC:20250425T190000
DTEND;TZID=UTC:20250425T210000
DTSTAMP:20260424T030945
CREATED:20250421T055739Z
LAST-MODIFIED:20250422T061646Z
UID:8893-1745607600-1745614800@www.tawarmall.qa
SUMMARY:Jungle Adventure
DESCRIPTION:Join us this Friday at Tawar Mall for exciting activities and adventures for whole family… a day of Magic Show\, Chemist Show\, Games & Mascots await\, don’t miss out the fun! 🎭✨ \nانضم إلينا للاستمتاع بأمسية مليئة بالمرح في طوار مول مع أنشطة ومغامرات مثيرة لجميع أفراد العائلة \n📍 Tawar Mall\n📅 Friday 25 / 04 / 2025\n⌚ 7.00 PM to 9.00 PM\n—————————-
URL:https://www.tawarmall.qa/event/jungle-adventure/
LOCATION:Tawar Mall\, Doha\, Qatar
ATTACH;FMTTYPE=image/png:https://www.tawarmall.qa/wp-content/uploads/2025/04/Magic-Show-Chemist-Show-Labubu-Mascots-Comedy-Fun-Kids-Entertainment-Friday-Family-Doha-Qatar-Tawar-Mall-Adventure-1.png
END:VEVENT
BEGIN:VEVENT
DTSTART;TZID=UTC:20250330T210000
DTEND;TZID=UTC:20250401T230000
DTSTAMP:20260424T030945
CREATED:20250324T111430Z
LAST-MODIFIED:20250324T111430Z
UID:8849-1743368400-1743548400@www.tawarmall.qa
SUMMARY:Celebrate Eid At Tawar Mall
DESCRIPTION:Celebrate the Joy of Eid with Three Days of Festivities at Tawar Mall! Join us for a Spectacular Eid Experience filled with exciting performances\, dazzling shows and delightful activities throughout the mall.. \n🌟 Day 1: Candy Queen Bubble Show\, Giant Neon Show\, African Dance\, Comedy Clown\, Arts & Crafts and More! \n👑 Day 2: Barbie Bubble Show\, Real Princess Meet & Greet\, Magic Show\, Mascots\, Giant Neon Show Circus Fun and Arts Crafts! \n🎭 Day 3: Marshmallow Show\, Bubble Show\, Clown Magic Show\, My Little Pony Mascots\, Mickey & Minnie in Jungle Costumes! \n📍 Tawar Mall\n——————————\n📅 First 3 Days of Eid\n⌚From 4.00 PM to 9.00 PM\n——————————
URL:https://www.tawarmall.qa/event/celebrate-eid-at-tawar-mall/
LOCATION:Tawar Mall\, Doha\, Qatar
ATTACH;FMTTYPE=image/png:https://www.tawarmall.qa/wp-content/uploads/2025/03/Eid-shows-mix-2025.png
END:VEVENT
BEGIN:VEVENT
DTSTART;TZID=UTC:20250321T210000
DTEND;TZID=UTC:20250321T230000
DTSTAMP:20260424T030945
CREATED:20250318T061915Z
LAST-MODIFIED:20250318T061948Z
UID:8844-1742590800-1742598000@www.tawarmall.qa
SUMMARY:Ramadan Weekends!
DESCRIPTION:Join us at Tawar Mall to celebrate and embrace the spirit of Ramadan during the weekends of this blessed month 🌙✨ with various traditional and cultural activities.. \nانضموا إلينا في طوار مول للاحتفال و للاستممتاع بأمسيات رمضانية خلال عطلات نهاية الأسبوع لهذا الشهر المبارك 🌙✨ \n—————————-\n⌚From 9.00 PM Onwards.\n📍 Tawar Mall \n21st March | Friday \n#Ramadan #RamadanActivities #love #happines #ItsTawarMall #APlaceForAll #TawarMall #WeAreQatar
URL:https://www.tawarmall.qa/event/ramadan-weekends-2/
LOCATION:Tawar Mall\, Doha\, Qatar
ATTACH;FMTTYPE=image/png:https://www.tawarmall.qa/wp-content/uploads/2025/03/Ramadan-Weekend-2025-1.png
END:VEVENT
BEGIN:VEVENT
DTSTART;TZID=UTC:20250314T210000
DTEND;TZID=UTC:20250314T230000
DTSTAMP:20260424T030945
CREATED:20250304T094021Z
LAST-MODIFIED:20250304T094021Z
UID:8830-1741986000-1741993200@www.tawarmall.qa
SUMMARY:Garangao Night
DESCRIPTION:Join us for a fun-filled Garangao Celebration followed by a vibrant Night Parade at Tawar Mall! \nKids can show up in their best-dressed Garangao costumes and look forward to receiving goodie bags & special giveaways during the parade.. \nانضم إلينا للاستمتاع باحتفال القرنقعوه الممتع يليه العرض الليلي النابض بالحياة في طوار مول! \nيمكن للأطفال الظهور بأفضل أزياء القرنقعوه ويتطلعون إلى الحصول على حقائب الهدايا والهدايا الخاصة خلال العرض.. \nFrom 9.00 PM Onwards.\n📍 Tawar Mall\n———————–\n14th March \n#Garangao2025 #Ramadan #GarangaoActivities #love #happines #ItsTawarMall #APlaceForAll #TawarMall #WeAreQatar
URL:https://www.tawarmall.qa/event/garangao-night/
LOCATION:Tawar Mall\, Doha\, Qatar
ATTACH;FMTTYPE=image/png:https://www.tawarmall.qa/wp-content/uploads/2025/03/Garangao-2025.png
END:VEVENT
BEGIN:VEVENT
DTSTART;TZID=UTC:20250221T184500
DTEND;TZID=UTC:20250221T204500
DTSTAMP:20260424T030945
CREATED:20250217T073818Z
LAST-MODIFIED:20250218T062056Z
UID:8808-1740163500-1740170700@www.tawarmall.qa
SUMMARY:Fun-Tastic Fridyas!
DESCRIPTION:Exciting Friday Ahead! Join us for a day of magic\, laughter\, games & mascots. don’t miss the fun! 🎪🎉 \nانضم إلينا للاستمتاع بأمسية مليئة بالمرح في طوار مول مع أنشطة ومغامرات مثيرة لجميع أفراد العائلة \n📍 Tawar Mall\n📅 Friday 21 / 02 / 2025\n⌚ 6.45 PM to 8.45 PM\n—————————- \n#طوارمول #مكان_للجميع #كلنا_قطر #إنه_طوار_مول #قطر #طوار_مول #الترفيه #جمعةرائعة\n#FantasticFriday #ItsTawarMall #APlaceForAll #WeAreQatar #TawarMall
URL:https://www.tawarmall.qa/event/fun-tastic-fridyas/
LOCATION:Tawar Mall\, Doha\, Qatar
ATTACH;FMTTYPE=image/png:https://www.tawarmall.qa/wp-content/uploads/2025/02/Event-Poster-Feb-28-2025-1.png
END:VEVENT
BEGIN:VEVENT
DTSTART;TZID=UTC:20250214T184500
DTEND;TZID=UTC:20250214T204500
DTSTAMP:20260424T030945
CREATED:20250212T075339Z
LAST-MODIFIED:20250213T133933Z
UID:8797-1739558700-1739565900@www.tawarmall.qa
SUMMARY:Fun-Tastic Fridyas!
DESCRIPTION:An Evening of Fun\, Smiles & Togetherness! \nJoin us to immerse yourself in an enchanting winter evening with endless activities and adventures for the whole family.. \nانضم إلينا للاستمتاع بأمسية مليئة بالمرح في طوار مول مع أنشطة ومغامرات مثيرة لجميع أفراد العائلة.. \n📍 Tawar Mall\n📅 Friday 14 / 02 / 2025\n⌚ 6.45 PM to 8.45 PM\n—————————- \n#SeasonsOfLove #Togetherness #Love #Happiness #ItsTawarMall #APlaceForAll #WeAreQatar #TawarMall
URL:https://www.tawarmall.qa/event/champions-2/
LOCATION:Tawar Mall\, Doha\, Qatar
ATTACH;FMTTYPE=image/png:https://www.tawarmall.qa/wp-content/uploads/2025/02/Event-Poster-Feb-14-2025-2.png
END:VEVENT
BEGIN:VEVENT
DTSTART;TZID=UTC:20250211T160000
DTEND;TZID=UTC:20250211T190000
DTSTAMP:20260424T030945
CREATED:20250206T152009Z
LAST-MODIFIED:20250206T152100Z
UID:8787-1739289600-1739300400@www.tawarmall.qa
SUMMARY:Champions
DESCRIPTION:Come join us with your kids and 🏅 Gear up for a day of adrenaline-packed action at Tawar Mall as we kick off Qatar National Sports Day! ⚽♂️🏀 \nLet the games begin! 🏆👟 \nانضم إلينا مع أطفالك و 🏅 استعد ليوم مليء بالإثارة في طوار مول مع انطلاق اليوم الرياضي ! ⚽\nلتبدأ الالعاب! 🏆👟 \nFeb 11th | Tuesday | 4.00 PM\n📍 Tawar Mall
URL:https://www.tawarmall.qa/event/champions/
LOCATION:Tawar Mall\, Doha\, Qatar
ATTACH;FMTTYPE=image/jpeg:https://www.tawarmall.qa/wp-content/uploads/2025/02/Event-Poster-Feb-11-2025.jpg
END:VEVENT
BEGIN:VEVENT
DTSTART;TZID=UTC:20250207T184500
DTEND;TZID=UTC:20250207T204500
DTSTAMP:20260424T030945
CREATED:20250203T072338Z
LAST-MODIFIED:20250203T072808Z
UID:8770-1738953900-1738961100@www.tawarmall.qa
SUMMARY:Fun-Tastic Fridyas!
DESCRIPTION:This Friday = Pure Fun! Magic\, clowns\, games & mascots await\, don’t miss out! 🎭✨ \n. \nانضم إلينا للاستمتاع بأمسية مليئة بالمرح في طوار مول مع أنشطة ومغامرات مثيرة لجميع أفراد العائلة \n. \n📍 Tawar Mall\n📅 Friday 07 / 02 / 2025\n⌚ 6.45 PM to 8.45 PM
URL:https://www.tawarmall.qa/event/planting-happiness-2/
LOCATION:Tawar Mall\, Doha\, Qatar
ATTACH;FMTTYPE=image/png:https://www.tawarmall.qa/wp-content/uploads/2025/02/Event-Poster-Feb-08-2025.png
END:VEVENT
BEGIN:VEVENT
DTSTART;TZID=UTC:20241122T184500
DTEND;TZID=UTC:20241122T204500
DTSTAMP:20260424T030945
CREATED:20241119T131603Z
LAST-MODIFIED:20241119T131603Z
UID:8700-1732301100-1732308300@www.tawarmall.qa
SUMMARY:Planting Happiness..
DESCRIPTION:زراعة السعادة\, وعاء واحد في وقت واحد 🌱\nانضم إلينا يوم الجمعة في ورشة زراعة السعادة في طوار مول! \n🌱 Planting Happiness\, One Pot at a Time!\nJoin us this Friday and let your kids’ creativity bloom at our Planting Happiness Workshop at Tawar Mall! \n🌟 Activities Include:\n🪴 Planting a saplings\n💡 Fun brainstorming sessions\n🎨 Interactive flash card games etc. \n📅 22 / Nov / Friday / 2024\n⏰ 6:45 PM – 8:45 PM \n 
URL:https://www.tawarmall.qa/event/planting-happiness/
LOCATION:Tawar Mall\, Doha\, Qatar
ATTACH;FMTTYPE=image/jpeg:https://www.tawarmall.qa/wp-content/uploads/2024/11/Planting-Happiness.jpg
END:VEVENT
BEGIN:VEVENT
DTSTART;TZID=UTC:20241115T184500
DTEND;TZID=UTC:20241115T204500
DTSTAMP:20260424T030945
CREATED:20241111T120801Z
LAST-MODIFIED:20241111T120801Z
UID:8648-1731696300-1731703500@www.tawarmall.qa
SUMMARY:Autumn Blooms
DESCRIPTION:Winter vibes are calling ❄ Join us this weekend to immerse yourself in an enchanting winter evening with endless activities and adventures for the whole family.. \nانضم إلينا في نهاية هذا الأسبوع للاستمتاع بأنشطة ومغامرات لا نهاية لها لجميع أفراد العائلة \n⌚ 6.45 PM to 8.45 PM\n📅 Friday 15 / 11 / 2024\n📍 Tawar Mall \nClown Magic Show   |  Unicycling Juggler  |   Fun Games Hosting | Balloon Twisting   |  Creative Workshop  |   Mascots Appearance \n 
URL:https://www.tawarmall.qa/event/autumn-blooms-4/
LOCATION:Tawar Mall\, Doha\, Qatar
ATTACH;FMTTYPE=image/jpeg:https://www.tawarmall.qa/wp-content/uploads/2024/10/Event-Poster-Nov-15-2024.jpg
END:VEVENT
BEGIN:VEVENT
DTSTART;TZID=UTC:20241101T184500
DTEND;TZID=UTC:20241101T204500
DTSTAMP:20260424T030945
CREATED:20241029T125403Z
LAST-MODIFIED:20241029T125403Z
UID:8649-1730486700-1730493900@www.tawarmall.qa
SUMMARY:Autumn Blooms
DESCRIPTION: Join us to experience an evening packed with vibrant activities and adventures for the whole family..\nاستمتع بموسم الخريف 🍂 إثارة ومتعة لا نهاية لها! انضم إلينا لتجربة أمسية مليئة بالأنشطة والمغامرات النابضة بالحياة لجميع أفراد العائلة. \n📅 Friday 01 / 11 / 2024\n⌚ 6.45 PM to 8.45 PM\n📍 Tawar Mall\n—————————-\nMagic Show | Comedy Clown Show | Mascot Appearances | Art & Crafts | Roaming Parades | Fun Games and more..
URL:https://www.tawarmall.qa/event/autumn-blooms-3/
LOCATION:Tawar Mall\, Doha\, Qatar
ATTACH;FMTTYPE=image/png:https://www.tawarmall.qa/wp-content/uploads/2024/10/Event-Poster-Nov-1-2024.png
END:VEVENT
BEGIN:VEVENT
DTSTART;TZID=UTC:20241011T184500
DTEND;TZID=UTC:20241011T204500
DTSTAMP:20260424T030945
CREATED:20241008T115915Z
LAST-MODIFIED:20241008T115915Z
UID:8618-1728672300-1728679500@www.tawarmall.qa
SUMMARY:Autumn Blooms
DESCRIPTION:Embrace the new season 🍂 with endless fun! Join us to experience an evening packed with vibrant activities and adventures for the whole family.. \nاستمتع بموسم الخريف 🍂 إثارة ومتعة لا نهاية لها! انضم إلينا لتجربة أمسية مليئة بالأنشطة والمغامرات النابضة بالحياة لجميع أفراد العائلة. \n📅 Friday 11 / 10 / 2024\n⌚ 6.45 PM to 8.45 PM\n📍 Tawar Mall\n—————————-\nMagic Show | Mascot Appearances | Comedy Clown Show | Art & Crafts | Fun Games and more.
URL:https://www.tawarmall.qa/event/autumn-blooms-2/
LOCATION:Tawar Mall\, Doha\, Qatar
ATTACH;FMTTYPE=image/png:https://www.tawarmall.qa/wp-content/uploads/2024/10/Event-Poster-Oct-11-2024.png
END:VEVENT
BEGIN:VEVENT
DTSTART;TZID=UTC:20240927T184500
DTEND;TZID=UTC:20240927T204500
DTSTAMP:20260424T030945
CREATED:20240923T095015Z
LAST-MODIFIED:20240923T095015Z
UID:8587-1727462700-1727469900@www.tawarmall.qa
SUMMARY:Autumn Blooms
DESCRIPTION:Autumn Blooms!\n\n\nStep in to the new season 🍂 with excitement and endless fun! Join us to experience an evening packed with vibrant activities and adventures for the whole family.. \nاستمتع بموسم الخريف 🍂 إثارة ومتعة لا نهاية لها! انضم إلينا لتجربة أمسية مليئة بالأنشطة والمغامرات النابضة بالحياة لجميع أفراد العائلة. \n📅 Friday 27 / 09 / 2024\n⌚ 6.45 PM to 8.45 PM\n—————————-\nMagic Show | Clown Juggler Show | Gorilla Mascot | Fun Games and more.
URL:https://www.tawarmall.qa/event/autumn-blooms/
LOCATION:Tawar Mall\, Doha\, Qatar
ATTACH;FMTTYPE=image/png:https://www.tawarmall.qa/wp-content/uploads/2024/09/Event-Poster-September-27-2024-no-dance-craze.png
END:VEVENT
BEGIN:VEVENT
DTSTART;TZID=UTC:20240920T184500
DTEND;TZID=UTC:20240920T204500
DTSTAMP:20260424T030945
CREATED:20240916T075213Z
LAST-MODIFIED:20240916T075523Z
UID:8572-1726857900-1726865100@www.tawarmall.qa
SUMMARY:Autumn Blooms
DESCRIPTION:Autumn Blooms!\n\n\nJoin us to enjoy a fun-filled evening at Tawar Mall with exciting activities and adventures for the whole family.. \nانضم إلينا للاستمتاع بأمسية مليئة بالمرح في طوار مول مع أنشطة ومغامرات مثيرة لجميع أفراد العائلة. \n📅 Friday 20 / 09 / 2024\n⌚ 6.45 PM to 8.45 PM\n—————————- \nComedy Clown Show | Magic Show | Monster Mascot | Fun Games | Creative Workshops For Kids and more. \n 
URL:https://www.tawarmall.qa/event/back-to-school-4/
LOCATION:Tawar Mall\, Doha\, Qatar
ATTACH;FMTTYPE=image/png:https://www.tawarmall.qa/wp-content/uploads/2024/09/Autumn-FB-Event.png
END:VEVENT
BEGIN:VEVENT
DTSTART;TZID=UTC:20240830T184500
DTEND;TZID=UTC:20240830T204500
DTSTAMP:20260424T030945
CREATED:20240827T121355Z
LAST-MODIFIED:20240827T121355Z
UID:8527-1725043500-1725050700@www.tawarmall.qa
SUMMARY:Back To School
DESCRIPTION:Campus Kick-Off!\n\nJoin us this Friday at Tawar Mall for our back-to-school event to inspire your little minds with educational presentations and fun-filled activities for all the family\n\n\n\n\n.\nMake sure to catch all these performances starting from\n⌚ 6.45 PM to 8.45 PM\n30th August at 📍Tawar Mall
URL:https://www.tawarmall.qa/event/back-to-school-3/
LOCATION:Tawar Mall\, Doha\, Qatar
ATTACH;FMTTYPE=image/png:https://www.tawarmall.qa/wp-content/uploads/2024/08/Event-Poster-Aug-30-2024.png
END:VEVENT
BEGIN:VEVENT
DTSTART;TZID=UTC:20240823T160000
DTEND;TZID=UTC:20240823T200000
DTSTAMP:20260424T030945
CREATED:20240821T093549Z
LAST-MODIFIED:20240821T093549Z
UID:8518-1724428800-1724443200@www.tawarmall.qa
SUMMARY:Back To School
DESCRIPTION:Campus Kick-Off!\n\nJoin us this Friday at Twar Mall for our back-to-school event to inspire your little minds with educational presentations and fun-filled activities for all the family\n\n\n\n\n.\nMake sure to catch all these performances starting from\n⌚ 4.00 PM to 8.00 PM\n23rd August at 📍Tawar Mall
URL:https://www.tawarmall.qa/event/back-to-school-2/
LOCATION:Tawar Mall\, Doha\, Qatar
ATTACH;FMTTYPE=image/png:https://www.tawarmall.qa/wp-content/uploads/2024/08/Event-Poster-Aug-23-2024.png
END:VEVENT
BEGIN:VEVENT
DTSTART;TZID=UTC:20240816T184500
DTEND;TZID=UTC:20240830T203000
DTSTAMP:20260424T030945
CREATED:20240812T115839Z
LAST-MODIFIED:20240812T115839Z
UID:8488-1723833900-1725049800@www.tawarmall.qa
SUMMARY:Back To School
DESCRIPTION: Campus Kick-Off!\nIt’s a school season again! Educational activities and fun shows to experience only here at Tawar Mall.\n.\n.\nMake sure to catch all these performances starting from\n⌚ 6.45 PM to 8.45 PM\n16th\, 23rd & 30th August at 📍Tawar Mall
URL:https://www.tawarmall.qa/event/back-to-school/
LOCATION:Tawar Mall\, Doha\, Qatar
ATTACH;FMTTYPE=image/png:https://www.tawarmall.qa/wp-content/uploads/2024/08/Campus-Kick-Off-1-1.png
END:VEVENT
BEGIN:VEVENT
DTSTART;TZID=UTC:20240802T184500
DTEND;TZID=UTC:20240802T203000
DTSTAMP:20260424T030945
CREATED:20240729T094418Z
LAST-MODIFIED:20240729T094653Z
UID:8374-1722624300-1722630600@www.tawarmall.qa
SUMMARY:Summer Fun Fair 🌞
DESCRIPTION: Summer Fun Fair!\nCome join us to become part of the most delightful shows in town! With endless activities and adventures for the whole family..\n.\n.\nMake sure to catch all these performances starting from\n⌚ 6.45 Pm to 8.30 Pm\nThis Friday 📅 2nd Aug at 📍Tawar Mall
URL:https://www.tawarmall.qa/event/summer-fun-fair-%f0%9f%8c%9e-2/
LOCATION:Tawar Mall\, Doha\, Qatar
ATTACH;FMTTYPE=image/png:https://www.tawarmall.qa/wp-content/uploads/2024/07/Event-Poster-Aug-2-2024.png
END:VEVENT
BEGIN:VEVENT
DTSTART;TZID=UTC:20240719T183000
DTEND;TZID=UTC:20240719T203000
DTSTAMP:20260424T030945
CREATED:20240716T074930Z
LAST-MODIFIED:20240716T075021Z
UID:8272-1721413800-1721421000@www.tawarmall.qa
SUMMARY:Summer Fun Fair 🌞
DESCRIPTION:Let the Summer Fun Begin!\nCome join us to become part of the most delightful shows in town! With endless activities and adventures for the whole family..\n.\n.\nMake sure to catch all these performances starting from\n⌚ 6.45 Pm to 8.30 Pm\nThis Friday 📅 19th July at 📍Tawar Mall
URL:https://www.tawarmall.qa/event/summer-fun-fair-%f0%9f%8c%9e/
LOCATION:Tawar Mall\, Doha\, Qatar
ATTACH;FMTTYPE=image/png:https://www.tawarmall.qa/wp-content/uploads/2024/07/Event-Poster-July-19-2024.png
END:VEVENT
BEGIN:VEVENT
DTSTART;TZID=UTC:20240705T190000
DTEND;TZID=UTC:20240705T203000
DTSTAMP:20260424T030945
CREATED:20231022T065316Z
LAST-MODIFIED:20240812T124035Z
UID:6007-1720206000-1720211400@www.tawarmall.qa
SUMMARY:Summer Fun Fair 🌞
DESCRIPTION:Let the Summer Fun Begin!\nThis Summer join us every weekend at Tawar Mall for Endless Activities and Adventures for the Whole Family..
URL:https://www.tawarmall.qa/event/hello-summer-%f0%9f%8c%9e/
LOCATION:Tawar Mall\, Doha\, Qatar
ATTACH;FMTTYPE=image/png:https://www.tawarmall.qa/wp-content/uploads/2023/10/Event-Poster-June-28-2024.png
END:VEVENT
BEGIN:VEVENT
DTSTART;TZID=UTC:20240616T183000
DTEND;TZID=UTC:20240618T203000
DTSTAMP:20260424T030945
CREATED:20240611T092041Z
LAST-MODIFIED:20240812T120117Z
UID:8169-1718562600-1718742600@www.tawarmall.qa
SUMMARY:EID Carnival
DESCRIPTION:عيد أضحى مبارك !\nEid Al Adha Mubarak!\nنظم إلينا طيلة ثلاثة أيام عيد أضحى المبارك ضمن فعالياتنا المتميزة و أنشطتنا المتنوعة حيث العديد من الهدايا و الجوائز في انتظاركم\n.\nJoin us to celebrate Eid Al Adha & don’t miss the fun packed activities and shows throughout the mall.. Where amazing surprises awaits you. \n—————————————- \n⌚ 6:00 PM – 8:30 PM \nDuring the First 3 Days of Eid ✨
URL:https://www.tawarmall.qa/event/eid-carnival/
LOCATION:Tawar Mall\, Doha\, Qatar
ATTACH;FMTTYPE=image/png:https://www.tawarmall.qa/wp-content/uploads/2024/06/Eid-Al-Adha-2024.png
END:VEVENT
BEGIN:VEVENT
DTSTART;TZID=UTC:20240510T190000
DTEND;TZID=UTC:20240510T210000
DTSTAMP:20260424T030945
CREATED:20240508T113219Z
LAST-MODIFIED:20240508T113219Z
UID:7859-1715367600-1715374800@www.tawarmall.qa
SUMMARY:Fun Filled Eve
DESCRIPTION:Fun Filled Eve!\nJoin us to enjoy a fun-filled evening at Tawar Mall with exciting activities and adventures for the whole family.. \nAt Food Court 📍Tawar Mall\n📅 Friday 10 / 05 / 2024\n⌚ 7.00 PM to 9.00 PM
URL:https://www.tawarmall.qa/event/fun-filled-eve/
LOCATION:Tawar Mall\, Doha\, Qatar
ATTACH;FMTTYPE=image/png:https://www.tawarmall.qa/wp-content/uploads/2024/05/event-Poster-May-10-2024.png
END:VEVENT
BEGIN:VEVENT
DTSTART;TZID=UTC:20240426T190000
DTEND;TZID=UTC:20240426T210000
DTSTAMP:20260424T030945
CREATED:20240426T115042Z
LAST-MODIFIED:20240426T115139Z
UID:7373-1714158000-1714165200@www.tawarmall.qa
SUMMARY:Fun Filled Eve
DESCRIPTION:Join us to enjoy a fun-filled evening at Tawar Mall with exciting activities and adventures for the whole family.. \n📅 Friday 26 / 04 / 2024\n⌚ 7.00 PM to 9.00 PM\n—————————- \nMeet and Greet Lotso\, Tiger\, Ted\, and Mr. Bear | Fun Games Creative Workshops for Kids | Clown Show etc.
URL:https://www.tawarmall.qa/event/eid-festivities/
LOCATION:Tawar Mall\, Doha\, Qatar
ATTACH;FMTTYPE=image/png:https://www.tawarmall.qa/wp-content/uploads/2024/04/Fun-Filled-Eve-26th-Event.png
END:VEVENT
BEGIN:VEVENT
DTSTART;TZID=UTC:20240410T190000
DTEND;TZID=UTC:20240412T190000
DTSTAMP:20260424T030945
CREATED:20231022T070924Z
LAST-MODIFIED:20240414T093225Z
UID:6011-1712775600-1712948400@www.tawarmall.qa
SUMMARY:Eid Festivities!
DESCRIPTION:Join us to celebrate Eid Al Fitr & don’t miss the fun packed activities and shows throughout the mall.. Where amazing surprises awaits you
URL:https://www.tawarmall.qa/event/lego-weekend-party/
LOCATION:Tawar Mall\, Doha\, Qatar
ATTACH;FMTTYPE=image/png:https://www.tawarmall.qa/wp-content/uploads/2023/10/Event-Poster-April-10-2024-Day-1.png
END:VEVENT
BEGIN:VEVENT
DTSTART;TZID=UTC:20240324T203000
DTEND;TZID=UTC:20240324T223000
DTSTAMP:20260424T030945
CREATED:20240414T095044Z
LAST-MODIFIED:20240414T095237Z
UID:7042-1711312200-1711319400@www.tawarmall.qa
SUMMARY:Garangao!
DESCRIPTION:A fun-filled Garangao Celebration followed by a vibrant Night Parade at Tawar Mall!
URL:https://www.tawarmall.qa/event/garangao/
LOCATION:Tawar Mall\, Doha\, Qatar
ATTACH;FMTTYPE=image/jpeg:https://www.tawarmall.qa/wp-content/uploads/2024/04/Garangao.jpg
END:VEVENT
BEGIN:VEVENT
DTSTART;TZID=UTC:20240321T210000
DTEND;TZID=UTC:20240405T210000
DTSTAMP:20260424T030945
CREATED:20240414T094107Z
LAST-MODIFIED:20240414T094643Z
UID:7038-1711054800-1712350800@www.tawarmall.qa
SUMMARY:Ramadan Weekends
DESCRIPTION:Celebrating the spirit of Ramadan during the weekends of this blessed month 🌙✨ with various traditional and cultural activities..
URL:https://www.tawarmall.qa/event/ramadan-weekends/
LOCATION:Tawar Mall\, Doha\, Qatar
ATTACH;FMTTYPE=image/jpeg:https://www.tawarmall.qa/wp-content/uploads/2024/04/Ramadan-Even-Poster.jpg
END:VEVENT
END:VCALENDAR